BEGIN:VCALENDAR
VERSION:2.0
PRODID:-//eventon.com NONSGML v1.0//EN
CALSCALE:GREGORIAN
METHOD:PUBLISH
BEGIN:VEVENT
UID:69e73e554ad35
DTSTAMP:20260421T090733Z
DTSTART:20260510
DTEND:20260511
LOCATION:
SUMMARY:Giornata per Coppie e famiglie
DESCRIPTION:&nbsp;Lo sappiamo: una famiglia è un cantiere sempre in evoluz
 ione\,  che richiede costanza\,  pazienza e tanta fiducia reciproca. Noi ab
 biamo un consiglio per tutti: condividere la Parola di Dio è un cemento fo
 rmidabile per la vostra &#8220;grande opera&#8221;! Vi aspettiamo con gioia
 !\nhttps://www.sanbiagio.org/events/giornata-per-coppie-e-famiglie-30/
URL:https://www.sanbiagio.org/events/giornata-per-coppie-e-famiglie-30/
END:VEVENT
END:VCALENDAR