BEGIN:VCALENDAR
VERSION:2.0
PRODID:-//eventon.com NONSGML v1.0//EN
CALSCALE:GREGORIAN
METHOD:PUBLISH
BEGIN:VEVENT
UID:69e73e554f03e
DTSTAMP:20260421T090733Z
DTSTART:20260523
DTEND:20260524
LOCATION:
SUMMARY:Percorsi di Luce
DESCRIPTION:🎞️ Il piano è semplice: trascorrere qualche giorno immers
 i nella natura\,  con tanti momenti di condivisione e una continua meditazi
 one delle Sacre Scritture. La luce della Parola di Dio illumina questi riti
 ri dedicati a tutti i giovani che non hanno paura di porsi domande difficil
 i e ancora meno di mettersi[..]\nhttps://www.sanbiagio.org/events/percorsi-
 di-luce-21/
URL:https://www.sanbiagio.org/events/percorsi-di-luce-21/
END:VEVENT
END:VCALENDAR