BEGIN:VCALENDAR
VERSION:2.0
PRODID:-//eventon.com NONSGML v1.0//EN
CALSCALE:GREGORIAN
METHOD:PUBLISH
BEGIN:VEVENT
UID:69e862b39ee07
DTSTAMP:20260422T055459Z
DTSTART:20260509
DTEND:20260510
LOCATION:
SUMMARY:Giornata di ritiro
DESCRIPTION:🙏🏻 Una pausa dalla vita di tutti i giorni\,  una sosta sp
 irituale per ristorare l&#8217;anima con la Parola di Dio e affrontare le p
 iccole e grandi sfide dell&#8217;esistenza.\nhttps://www.sanbiagio.org/even
 ts/giornata-di-ritiro-21/
URL:https://www.sanbiagio.org/events/giornata-di-ritiro-21/
END:VEVENT
END:VCALENDAR