BEGIN:VCALENDAR
VERSION:2.0
PRODID:-//eventon.com NONSGML v1.0//EN
CALSCALE:GREGORIAN
METHOD:PUBLISH
BEGIN:VEVENT
UID:69e9fcc5c8a67
DTSTAMP:20260423T110437Z
DTSTART:20260515
DTEND:20260516
LOCATION:
SUMMARY:Seminario del Silenzio
DESCRIPTION:🤫 Imparare ad ascoltare il silenzio\,  a far tacere la mente
  e acreare le condizioni per la preghiera sono gli obiettivi dei seminari c
 he teniamo a San Biagio. I seminari\,  tenuti da fra Emiliano Antenucci\,  
 sono aperti a tutti.\nhttps://www.sanbiagio.org/events/seminario-del-silenz
 io-12/
URL:https://www.sanbiagio.org/events/seminario-del-silenzio-12/
END:VEVENT
END:VCALENDAR