BEGIN:VCALENDAR
VERSION:2.0
PRODID:-//eventon.com NONSGML v1.0//EN
CALSCALE:GREGORIAN
METHOD:PUBLISH
BEGIN:VEVENT
UID:69e73e44a8a20
DTSTAMP:20260421T090716Z
DTSTART:20260523
DTEND:20260524
LOCATION:
SUMMARY:Pentecoste a San Biagio
DESCRIPTION:🐰 Per le feste abbiamo una proposta rivoluzionaria da farvi:
  sottrarvi al caos ordinario del momento e abbracciare il senso più profon
 do e spirituale delle festività. La nostra proposta è fatta di silenzio\,
   meditazione della Parola di Dio\,  condivisione\,  natura&#8230; e natura
 lmente spirito di famiglia!\nhttps://www.sanbiagio.org/events/pentecoste-a-
 san-biagio-2/
URL:https://www.sanbiagio.org/events/pentecoste-a-san-biagio-2/
END:VEVENT
END:VCALENDAR