BEGIN:VCALENDAR
VERSION:2.0
PRODID:-//eventon.com NONSGML v1.0//EN
CALSCALE:GREGORIAN
METHOD:PUBLISH
BEGIN:VEVENT
UID:69e73e575a76b
DTSTAMP:20260421T090735Z
DTSTART:20260502
DTEND:20260503
LOCATION:
SUMMARY:Iconografia · Laboratorio
DESCRIPTION:🖌️ Un incontro dedicato a chi vuole tornare a scrivere le 
 icone nella pace del nostro monte.\nhttps://www.sanbiagio.org/events/iconog
 rafia-%c2%b7-laboratorio-19/
URL:https://www.sanbiagio.org/events/iconografia-%c2%b7-laboratorio-19/
END:VEVENT
END:VCALENDAR