BEGIN:VCALENDAR
VERSION:2.0
PRODID:-//eventon.com NONSGML v1.0//EN
CALSCALE:GREGORIAN
METHOD:PUBLISH
BEGIN:VEVENT
UID:69e73e3b2d31b
DTSTAMP:20260421T090707Z
DTSTART:20260425
DTEND:20260426
LOCATION:
SUMMARY:Le piante medicinali nel progetto del Creatore
DESCRIPTION:L’idea di dedicare una giornata alle erbe nasce dalla voglia 
 di costruire un ponte tra l’antichissima tradizione monastica di conoscen
 za delle erbe officinali e il recupero della consapevolezza della nostra re
 lazione con il Creato.Lo studio e la meditazione della Parola di Dio ci acc
 ompagneranno in questa esplorazione della dimensione olistica[..]\nhttps://
 www.sanbiagio.org/events/le-piante-medicinali-nel-progetto-del-creatore/
URL:https://www.sanbiagio.org/events/le-piante-medicinali-nel-progetto-del-creatore/
END:VEVENT
END:VCALENDAR